BEGIN:VCALENDAR
VERSION:2.0
PRODID:-//Grundschule im Blumenviertel - ECPv6.15.20//NONSGML v1.0//EN
CALSCALE:GREGORIAN
METHOD:PUBLISH
X-ORIGINAL-URL:https://www.grundschule-im-blumenviertel.de
X-WR-CALDESC:Veranstaltungen für Grundschule im Blumenviertel
REFRESH-INTERVAL;VALUE=DURATION:PT1H
X-Robots-Tag:noindex
X-PUBLISHED-TTL:PT1H
BEGIN:VTIMEZONE
TZID:Europe/Berlin
BEGIN:DAYLIGHT
TZOFFSETFROM:+0100
TZOFFSETTO:+0200
TZNAME:CEST
DTSTART:20250330T010000
END:DAYLIGHT
BEGIN:STANDARD
TZOFFSETFROM:+0200
TZOFFSETTO:+0100
TZNAME:CET
DTSTART:20251026T010000
END:STANDARD
BEGIN:DAYLIGHT
TZOFFSETFROM:+0100
TZOFFSETTO:+0200
TZNAME:CEST
DTSTART:20260329T010000
END:DAYLIGHT
BEGIN:STANDARD
TZOFFSETFROM:+0200
TZOFFSETTO:+0100
TZNAME:CET
DTSTART:20261025T010000
END:STANDARD
BEGIN:DAYLIGHT
TZOFFSETFROM:+0100
TZOFFSETTO:+0200
TZNAME:CEST
DTSTART:20270328T010000
END:DAYLIGHT
BEGIN:STANDARD
TZOFFSETFROM:+0200
TZOFFSETTO:+0100
TZNAME:CET
DTSTART:20271031T010000
END:STANDARD
END:VTIMEZONE
BEGIN:VEVENT
DTSTART;TZID=Europe/Berlin:20260602T080000
DTEND;TZID=Europe/Berlin:20260602T143000
DTSTAMP:20260425T042332
CREATED:20250914T065921Z
LAST-MODIFIED:20250914T065932Z
UID:4536-1780387200-1780410600@www.grundschule-im-blumenviertel.de
SUMMARY:Sportfest
DESCRIPTION:
URL:https://www.grundschule-im-blumenviertel.de/termine/sportfest-4/
LOCATION:Sportplatz Hanns-Eisler-Straße\, Hanns-Eisler-Straße 91\, Berlin\, Berlin\, 10409
CATEGORIES:Schultermine
END:VEVENT
BEGIN:VEVENT
DTSTART;TZID=Europe/Berlin:20260617T180000
DTEND;TZID=Europe/Berlin:20260617T190000
DTSTAMP:20260425T042332
CREATED:20251016T211559Z
LAST-MODIFIED:20251016T211559Z
UID:4758-1781719200-1781722800@www.grundschule-im-blumenviertel.de
SUMMARY:Förderverein Versammlung
DESCRIPTION:
URL:https://www.grundschule-im-blumenviertel.de/termine/foerderverein-versammlung-6/
LOCATION:Grundschule im Blumenviertel\, Syringenplatz 30\, Berlin\, 10407\, Deutschland
CATEGORIES:Förderverein
END:VEVENT
BEGIN:VEVENT
DTSTART;TZID=Europe/Berlin:20260623T180000
DTEND;TZID=Europe/Berlin:20260623T193000
DTSTAMP:20260425T042332
CREATED:20250914T070416Z
LAST-MODIFIED:20250914T070416Z
UID:4546-1782237600-1782243000@www.grundschule-im-blumenviertel.de
SUMMARY:Elterabend für die künftigen 1. Klassen
DESCRIPTION:
URL:https://www.grundschule-im-blumenviertel.de/termine/elterabend-fuer-die-kuenftigen-1-klassen/
LOCATION:Grundschule im Blumenviertel\, Syringenplatz 30\, Berlin\, 10407\, Deutschland
CATEGORIES:Elternabend
END:VEVENT
END:VCALENDAR