BEGIN:VCALENDAR
VERSION:2.0
PRODID:-//Grundschule im Blumenviertel - ECPv6.15.20//NONSGML v1.0//EN
CALSCALE:GREGORIAN
METHOD:PUBLISH
X-ORIGINAL-URL:https://www.grundschule-im-blumenviertel.de
X-WR-CALDESC:Veranstaltungen für Grundschule im Blumenviertel
REFRESH-INTERVAL;VALUE=DURATION:PT1H
X-Robots-Tag:noindex
X-PUBLISHED-TTL:PT1H
BEGIN:VTIMEZONE
TZID:Europe/Berlin
BEGIN:DAYLIGHT
TZOFFSETFROM:+0100
TZOFFSETTO:+0200
TZNAME:CEST
DTSTART:20250330T010000
END:DAYLIGHT
BEGIN:STANDARD
TZOFFSETFROM:+0200
TZOFFSETTO:+0100
TZNAME:CET
DTSTART:20251026T010000
END:STANDARD
BEGIN:DAYLIGHT
TZOFFSETFROM:+0100
TZOFFSETTO:+0200
TZNAME:CEST
DTSTART:20260329T010000
END:DAYLIGHT
BEGIN:STANDARD
TZOFFSETFROM:+0200
TZOFFSETTO:+0100
TZNAME:CET
DTSTART:20261025T010000
END:STANDARD
BEGIN:DAYLIGHT
TZOFFSETFROM:+0100
TZOFFSETTO:+0200
TZNAME:CEST
DTSTART:20270328T010000
END:DAYLIGHT
BEGIN:STANDARD
TZOFFSETFROM:+0200
TZOFFSETTO:+0100
TZNAME:CET
DTSTART:20271031T010000
END:STANDARD
END:VTIMEZONE
BEGIN:VEVENT
DTSTART;VALUE=DATE:20260708
DTEND;VALUE=DATE:20260709
DTSTAMP:20260425T060100
CREATED:20250914T070456Z
LAST-MODIFIED:20250914T070456Z
UID:4548-1783468800-1783555199@www.grundschule-im-blumenviertel.de
SUMMARY:Zeugnisse
DESCRIPTION:
URL:https://www.grundschule-im-blumenviertel.de/termine/zeugnisse-4/
LOCATION:Grundschule im Blumenviertel\, Syringenplatz 30\, Berlin\, 10407\, Deutschland
CATEGORIES:Schultermine
END:VEVENT
BEGIN:VEVENT
DTSTART;VALUE=DATE:20260709
DTEND;VALUE=DATE:20260823
DTSTAMP:20260425T060100
CREATED:20250914T070233Z
LAST-MODIFIED:20250914T070233Z
UID:4544-1783555200-1787443199@www.grundschule-im-blumenviertel.de
SUMMARY:Sommerferien
DESCRIPTION:
URL:https://www.grundschule-im-blumenviertel.de/termine/sommerferien-6/
CATEGORIES:Ferien
END:VEVENT
END:VCALENDAR